BEGIN:VCALENDAR
VERSION:2.0
PRODID:-//Italian Cake Design School - ECPv5.16.0//NONSGML v1.0//EN
CALSCALE:GREGORIAN
METHOD:PUBLISH
X-WR-CALNAME:Italian Cake Design School
X-ORIGINAL-URL:https://www.italiancakedesigner.com
X-WR-CALDESC:Eventi per Italian Cake Design School
BEGIN:VTIMEZONE
TZID:UTC
BEGIN:STANDARD
TZOFFSETFROM:+0000
TZOFFSETTO:+0000
TZNAME:UTC
DTSTART:20250101T000000
END:STANDARD
END:VTIMEZONE
BEGIN:VEVENT
DTSTART;TZID=UTC:20251004T100000
DTEND;TZID=UTC:20251004T170000
DTSTAMP:20260421T105201
CREATED:20230111T074220Z
LAST-MODIFIED:20250123T112855Z
UID:10082-1759572000-1759597200@www.italiancakedesigner.com
SUMMARY:Masterclass torte e monoporzioni moderne con e senza glassa a specchio
DESCRIPTION:Durante questo corso di pasticceria torte moderne glassa a specchio si realizzano monoporzioni. \nProgramma: sia torte che monoporzioni\, in particolare il tiramisù moderno con intarsio\, monoporzioni glassate a specchio. Mousse\, gelèè\, e decorazioni. \nParticolare attenzione è data alla creazione della glassa a specchio.[/vc_column_text][/vc_column][/vc_row][vc_row][vc_column][vc_media_grid element_width=”2″ grid_id=”vc_gid:1622027769963-eabb129e-2238-2″ include=”9083″ css=”.vc_custom_1566139338690{margin-top: 30px !important;}”][/vc_column][/vc_row]
URL:https://www.italiancakedesigner.com/corso/torte-e-monoporzioni-moderne-con-e-senza-glassa-a-specchio/
LOCATION:Italian Cake Design School\, Corso Plebisciti 8\, Milano\, MI\, 20129\, Italia
CATEGORIES:Corsi Cake Design
ORGANIZER;CN="MARIACRISTINA%20HELLMANN":MAILTO:scuolacakedesign@hotmail.com
END:VEVENT
BEGIN:VEVENT
DTSTART;TZID=UTC:20251004T100000
DTEND;TZID=UTC:20251004T170000
DTSTAMP:20260421T105201
CREATED:20241231T112339Z
LAST-MODIFIED:20250522T103643Z
UID:10648-1759572000-1759597200@www.italiancakedesigner.com
SUMMARY:New!!! Masterclass  avanzato di cake design.
DESCRIPTION:In  questo corso avanzato di cake design impari la tecnica a dipingere sulla pasta di zucchero con i coloranti edibili in polvere  per rendere un effetto spettacolare sulle vostre torte.  Si realizzano i fiori in wafer paper. Si realizza il progetto come da foto. Non è necessario saper disegnare o avere doti artistiche\, con questa tecnica chiunque può realizzare questa bellissima torta sotto l’esperta guida di Linda. da pèortare: polistirolo diametro 15 alto 10 cm rivestito di pasta di zucchero bianca\, in alternativa la scuola fornisce gratuitamente un polistirolo non ricoperto da usare al corso. \nDa portare: scatola dove riporre quanto prodotto. \n 
URL:https://www.italiancakedesigner.com/corso/new-masterclass-avanzato-di-cake-design/
LOCATION:Italian Cake Design School\, Corso Plebisciti 8\, Milano\, MI\, 20129\, Italia
CATEGORIES:Corsi Cake Design
ORGANIZER;CN="LINDA%20BIANCARDI":MAILTO:scuolacakedesign@hotmail.com
END:VEVENT
END:VCALENDAR