BEGIN:VCALENDAR
VERSION:2.0
PRODID:-//Italian Cake Design School - ECPv5.16.0//NONSGML v1.0//EN
CALSCALE:GREGORIAN
METHOD:PUBLISH
X-WR-CALNAME:Italian Cake Design School
X-ORIGINAL-URL:https://www.italiancakedesigner.com
X-WR-CALDESC:Eventi per Italian Cake Design School
BEGIN:VTIMEZONE
TZID:UTC
BEGIN:STANDARD
TZOFFSETFROM:+0000
TZOFFSETTO:+0000
TZNAME:UTC
DTSTART:20230101T000000
END:STANDARD
END:VTIMEZONE
BEGIN:VEVENT
DTSTART;TZID=UTC:20230521T093000
DTEND;TZID=UTC:20230521T170000
DTSTAMP:20260422T091541
CREATED:20220729T152821Z
LAST-MODIFIED:20230408T152845Z
UID:9992-1684661400-1684688400@www.italiancakedesigner.com
SUMMARY:Corso fiori in pasta di zucchero: la peonia e rose e fiorellini.
DESCRIPTION:[vc_row][vc_column][vc_column_text]Durante questo corso di cake design si imparano a realizzare fiori in pasta di zucchero\, peonia\, rose e altro. \nProgramma: \ntipologia di pasta di zucchero per i fiori\, \ncolorazione a pennello con tecnica della sfumatura\, \nrealizzazione del petalo\, \nvenatura\, \ninferrettamento\, assemblamento e montaggio del fiore.[/vc_column_text][/vc_column][/vc_row][vc_row][vc_column][vc_media_grid element_width=”2″ grid_id=”vc_gid:1649673648261-4752a605-d700-10″ include=”9116″ css=”.vc_custom_1649673724243{margin-top: 30px !important;}”][/vc_column][/vc_row]
URL:https://www.italiancakedesigner.com/corso/corso-fiori-in-pasta-di-zucchero-la-peonia-e-rose-e-fiorellini/
LOCATION:Italian Cake Design School\, Corso Plebisciti 8\, Milano\, MI\, 20129\, Italia
CATEGORIES:Corsi Cake Design
ORGANIZER;CN="MARIACRISTINA%20HELLMANN":MAILTO:scuolacakedesign@hotmail.com
END:VEVENT
END:VCALENDAR