BEGIN:VCALENDAR
VERSION:2.0
PRODID:-//Italian Cake Design School - ECPv5.16.0//NONSGML v1.0//EN
CALSCALE:GREGORIAN
METHOD:PUBLISH
X-WR-CALNAME:Italian Cake Design School
X-ORIGINAL-URL:https://www.italiancakedesigner.com
X-WR-CALDESC:Eventi per Italian Cake Design School
BEGIN:VTIMEZONE
TZID:Europe/Rome
BEGIN:DAYLIGHT
TZOFFSETFROM:+0100
TZOFFSETTO:+0200
TZNAME:CEST
DTSTART:20250330T010000
END:DAYLIGHT
BEGIN:STANDARD
TZOFFSETFROM:+0200
TZOFFSETTO:+0100
TZNAME:CET
DTSTART:20251026T010000
END:STANDARD
END:VTIMEZONE
BEGIN:VEVENT
DTSTART;TZID=Europe/Rome:20250406T090000
DTEND;TZID=Europe/Rome:20250406T170000
DTSTAMP:20260421T102941
CREATED:20241108T174202Z
LAST-MODIFIED:20250319T135950Z
UID:10522-1743930000-1743958800@www.italiancakedesigner.com
SUMMARY:Master Class  Grandi Lievitati - COLOMBA PER PASQUA - Ultimi tre posti.
DESCRIPTION:Programma del corso: \nSotto la guida esperta di Tiziana Gabrielli faremo queste preparazioni: \n Colomba Classica;\n Colomba ai frutti di bosco e cioccolato bianco;\n Pastiera napoletana \nCorso pratico dove ogni corsista realizzerà la sua colomba. Nel corso della giornata si analizzeranno le tecniche di: impastamento\, gestione e scelta degli ingredienti\, incordatura\, pirlatura\, e la gestione del Lievito Madre. Durante ble pause per la lievitazione si produrrà la pastiera napoletana A ogni partecipante verrà dato del lievito madre da portare via. \nOgni allievo avrà a disposizione una dettagliata dispensa e lavorerà in modo attivo alla lezione realizzando con gli altri partecipanti tutte le preparazioni in programma. A fine corso è previsto l’assaggio di quanto prodotto.
URL:https://www.italiancakedesigner.com/corso/corso-grandi-lievitati-colomba-per-pasqua-new/
LOCATION:Italian Cake Design School\, Corso Plebisciti 8\, Milano\, MI\, 20129\, Italia
END:VEVENT
END:VCALENDAR