BEGIN:VCALENDAR
VERSION:2.0
PRODID:-//Italian Cake Design School - ECPv5.16.0//NONSGML v1.0//EN
CALSCALE:GREGORIAN
METHOD:PUBLISH
X-WR-CALNAME:Italian Cake Design School
X-ORIGINAL-URL:https://www.italiancakedesigner.com
X-WR-CALDESC:Eventi per Italian Cake Design School
BEGIN:VTIMEZONE
TZID:UTC
BEGIN:STANDARD
TZOFFSETFROM:+0000
TZOFFSETTO:+0000
TZNAME:UTC
DTSTART:20230101T000000
END:STANDARD
END:VTIMEZONE
BEGIN:VEVENT
DTSTART;TZID=UTC:20231202T100000
DTEND;TZID=UTC:20231202T130000
DTSTAMP:20260425T022734
CREATED:20190725T103238Z
LAST-MODIFIED:20231005T105119Z
UID:8687-1701511200-1701522000@www.italiancakedesigner.com
SUMMARY:Corso macaron versione natalizia
DESCRIPTION:[vc_row][vc_column][vc_column_text]Questo è il corso per realizzare macarons per Natale e decoriamo con l’uso di coloranti edibili\, ghiaccia reale\, inserti di pasta di zucchero e tanta fantasia.  \nPrepariamo i famosi dolcetti francesi in modo facile e veloce e le squisite farciture. \nPROGRAMMA: \nPartiamo da farina di mandorle\, albumi e zucchero e realizziamo con la tecnica della meringa italiana i macarons. \nI piccoli trucchi da evitare perchè non ci siano errori nella realizzazione dei gusci. \nLe farciture proposte sono a base di caramello salato\, pistacchio\, tiramisu al caffè e anche cioccolato al lampone \nTutti i partecipanti collaborano in modo attivo alla preparazione dell’impasto  e alle farciture. \nSi lavora in gruppo con l’insegnante in modo attivo e individualmente per il dressaggio e la farcitura dei macarons[/vc_column_text][/vc_column][/vc_row][vc_row][vc_column][vc_media_grid element_width=”2″ grid_id=”vc_gid:1566228483674-f0c705dd-44bc-3″ include=”8630\,9101″ css=”.vc_custom_1566116701388{margin-top: 30px !important;}”][/vc_column][/vc_row]
URL:https://www.italiancakedesigner.com/corso/corso-macaron-versione-natalizia-2/
LOCATION:Italian Cake Design School\, Corso Plebisciti 8\, Milano\, MI\, 20129\, Italia
CATEGORIES:Corsi Pasticceria
ORGANIZER;CN="MARIACRISTINA%20HELLMANN":MAILTO:scuolacakedesign@hotmail.com
END:VEVENT
END:VCALENDAR